BEGIN:VCALENDAR
VERSION:2.0
PRODID:-//Women in Conservation Leadership - ECPv6.6.4.2//NONSGML v1.0//EN
CALSCALE:GREGORIAN
METHOD:PUBLISH
X-ORIGINAL-URL:https://wcl.nwf.org
X-WR-CALDESC:Events for Women in Conservation Leadership
REFRESH-INTERVAL;VALUE=DURATION:PT1H
X-Robots-Tag:noindex
X-PUBLISHED-TTL:PT1H
BEGIN:VTIMEZONE
TZID:America/New_York
BEGIN:DAYLIGHT
TZOFFSETFROM:-0500
TZOFFSETTO:-0400
TZNAME:EDT
DTSTART:20180311T070000
END:DAYLIGHT
BEGIN:STANDARD
TZOFFSETFROM:-0400
TZOFFSETTO:-0500
TZNAME:EST
DTSTART:20181104T060000
END:STANDARD
BEGIN:DAYLIGHT
TZOFFSETFROM:-0500
TZOFFSETTO:-0400
TZNAME:EDT
DTSTART:20190310T070000
END:DAYLIGHT
BEGIN:STANDARD
TZOFFSETFROM:-0400
TZOFFSETTO:-0500
TZNAME:EST
DTSTART:20191103T060000
END:STANDARD
END:VTIMEZONE
BEGIN:VEVENT
DTSTART;VALUE=DATE:20190327
DTEND;VALUE=DATE:20190328
DTSTAMP:20260419T093324
CREATED:20190313T171700Z
LAST-MODIFIED:20190313T171938Z
UID:537-1553644800-1553731199@wcl.nwf.org
SUMMARY:Naturally Latinos Conference
DESCRIPTION:Serving the DC-metro region\, the Naturally Latinos Conference will provide an opportunity to bring together local Latinx leaders to discuss environmental science\, policy\, and culture\, as well as provide great networking and mentoring opportunities. This conference is hosted by Audubon Naturalist Society and its partners.
URL:https://wcl.nwf.org/event/naturally-latinos-conference/
LOCATION:Woodend Nature Sanctuary Headquarters\, 8940 Jones Mill Road\, Chevy Chase\, MD\, United States
CATEGORIES:Annual Conference,Public
ATTACH;FMTTYPE=image/png:https://wcl.nwf.org/wp-content/uploads/2019/03/Naturally-Latinos-Conference.png
END:VEVENT
BEGIN:VEVENT
DTSTART;VALUE=DATE:20180816
DTEND;VALUE=DATE:20180817
DTSTAMP:20260419T093324
CREATED:20180724T140559Z
LAST-MODIFIED:20180816T151621Z
UID:419-1534377600-1534463999@wcl.nwf.org
SUMMARY:Website Launch
DESCRIPTION:Launching the new WCL website!
URL:https://wcl.nwf.org/event/website-launch/
LOCATION:National Wildlife Federation HQ\, 11100 Wildlife Center Drive\, Reston\, VA\, 20191\, United States
CATEGORIES:Public,Training Event,Webinar
ATTACH;FMTTYPE=image/jpeg:https://wcl.nwf.org/wp-content/uploads/2018/01/Great-Blue-Heron_Kevin-Hacker_440x280.jpg
ORGANIZER;CN="Elizabeth Lillard":MAILTO:LillardE@nwf.org
END:VEVENT
END:VCALENDAR